BEGIN:VCALENDAR
VERSION:2.0
PRODID:-//eventon.com NONSGML v1.0//EN
CALSCALE:GREGORIAN
METHOD:PUBLISH
BEGIN:VEVENT
UID:69ed69eb842c2
DTSTAMP:20260426T012707Z
DTSTART:20270530T150000Z
DTEND:20270530T183000Z
LOCATION:
SUMMARY:Sunday Worship Service
DESCRIPTION:Sunday Worship Service\nhttps://www.truelifeministry.org/events
 /sunday-worship-service/var/event_access
URL:https://www.truelifeministry.org/events/sunday-worship-service/var/event_access
END:VEVENT
END:VCALENDAR