BEGIN:VCALENDAR
VERSION:2.0
PRODID:-//eventon.com NONSGML v1.0//EN
CALSCALE:GREGORIAN
METHOD:PUBLISH
BEGIN:VEVENT
UID:69ecaac41f804
DTSTAMP:20260425T115132Z
DTSTART:20270321T150000Z
DTEND:20270321T183000Z
LOCATION:
SUMMARY:Sunday Worship Service
DESCRIPTION:Sunday Worship Service\nhttps://www.truelifeministry.org/events
 /sunday-worship-service/var/event_access
URL:https://www.truelifeministry.org/events/sunday-worship-service/var/event_access
END:VEVENT
END:VCALENDAR