BEGIN:VCALENDAR
VERSION:2.0
PRODID:-//eventon.com NONSGML v1.0//EN
CALSCALE:GREGORIAN
METHOD:PUBLISH
BEGIN:VEVENT
UID:69e7af2e41efc
DTSTAMP:20260421T170902Z
DTSTART:20260726T150000Z
DTEND:20260726T183000Z
LOCATION:
SUMMARY:Sunday Worship Service
DESCRIPTION:Sunday Worship Service\nhttps://www.truelifeministry.org/events
 /sunday-worship-service/var/event_access
URL:https://www.truelifeministry.org/events/sunday-worship-service/var/event_access
END:VEVENT
END:VCALENDAR