BEGIN:VCALENDAR
VERSION:2.0
PRODID:-//eventon.com NONSGML v1.0//EN
CALSCALE:GREGORIAN
METHOD:PUBLISH
BEGIN:VEVENT
UID:69e5dfa5ddf9e
DTSTAMP:20260420T081117Z
DTSTART:20260322T150000Z
DTEND:20260322T183000Z
LOCATION:
SUMMARY:Sunday Worship Service
DESCRIPTION:Sunday Worship Service\nhttps://www.truelifeministry.org/events
 /sunday-worship-service/var/event_access
URL:https://www.truelifeministry.org/events/sunday-worship-service/var/event_access
END:VEVENT
END:VCALENDAR